BEGIN:VCALENDAR
VERSION:2.0
PRODID:-//Emerge Counseling &amp; Coaching - ECPv6.15.20//NONSGML v1.0//EN
CALSCALE:GREGORIAN
METHOD:PUBLISH
X-ORIGINAL-URL:https://emergecounselingnj.com
X-WR-CALDESC:Events for Emerge Counseling &amp; Coaching
REFRESH-INTERVAL;VALUE=DURATION:PT1H
X-Robots-Tag:noindex
X-PUBLISHED-TTL:PT1H
BEGIN:VTIMEZONE
TZID:America/New_York
BEGIN:DAYLIGHT
TZOFFSETFROM:-0500
TZOFFSETTO:-0400
TZNAME:EDT
DTSTART:20170312T070000
END:DAYLIGHT
BEGIN:STANDARD
TZOFFSETFROM:-0400
TZOFFSETTO:-0500
TZNAME:EST
DTSTART:20171105T060000
END:STANDARD
BEGIN:DAYLIGHT
TZOFFSETFROM:-0500
TZOFFSETTO:-0400
TZNAME:EDT
DTSTART:20180311T070000
END:DAYLIGHT
BEGIN:STANDARD
TZOFFSETFROM:-0400
TZOFFSETTO:-0500
TZNAME:EST
DTSTART:20181104T060000
END:STANDARD
BEGIN:DAYLIGHT
TZOFFSETFROM:-0500
TZOFFSETTO:-0400
TZNAME:EDT
DTSTART:20190310T070000
END:DAYLIGHT
BEGIN:STANDARD
TZOFFSETFROM:-0400
TZOFFSETTO:-0500
TZNAME:EST
DTSTART:20191103T060000
END:STANDARD
BEGIN:DAYLIGHT
TZOFFSETFROM:-0500
TZOFFSETTO:-0400
TZNAME:EDT
DTSTART:20200308T070000
END:DAYLIGHT
BEGIN:STANDARD
TZOFFSETFROM:-0400
TZOFFSETTO:-0500
TZNAME:EST
DTSTART:20201101T060000
END:STANDARD
BEGIN:DAYLIGHT
TZOFFSETFROM:-0500
TZOFFSETTO:-0400
TZNAME:EDT
DTSTART:20210314T070000
END:DAYLIGHT
BEGIN:STANDARD
TZOFFSETFROM:-0400
TZOFFSETTO:-0500
TZNAME:EST
DTSTART:20211107T060000
END:STANDARD
BEGIN:DAYLIGHT
TZOFFSETFROM:-0500
TZOFFSETTO:-0400
TZNAME:EDT
DTSTART:20220313T070000
END:DAYLIGHT
BEGIN:STANDARD
TZOFFSETFROM:-0400
TZOFFSETTO:-0500
TZNAME:EST
DTSTART:20221106T060000
END:STANDARD
BEGIN:DAYLIGHT
TZOFFSETFROM:-0500
TZOFFSETTO:-0400
TZNAME:EDT
DTSTART:20230312T070000
END:DAYLIGHT
BEGIN:STANDARD
TZOFFSETFROM:-0400
TZOFFSETTO:-0500
TZNAME:EST
DTSTART:20231105T060000
END:STANDARD
BEGIN:DAYLIGHT
TZOFFSETFROM:-0500
TZOFFSETTO:-0400
TZNAME:EDT
DTSTART:20240310T070000
END:DAYLIGHT
BEGIN:STANDARD
TZOFFSETFROM:-0400
TZOFFSETTO:-0500
TZNAME:EST
DTSTART:20241103T060000
END:STANDARD
BEGIN:DAYLIGHT
TZOFFSETFROM:-0500
TZOFFSETTO:-0400
TZNAME:EDT
DTSTART:20250309T070000
END:DAYLIGHT
BEGIN:STANDARD
TZOFFSETFROM:-0400
TZOFFSETTO:-0500
TZNAME:EST
DTSTART:20251102T060000
END:STANDARD
END:VTIMEZONE
BEGIN:VEVENT
DTSTART;TZID=America/New_York:20240516T180000
DTEND;TZID=America/New_York:20240516T200000
DTSTAMP:20260423T122545
CREATED:20240507T191927Z
LAST-MODIFIED:20240507T192130Z
UID:3980-1715882400-1715889600@emergecounselingnj.com
SUMMARY:Motherhood Uncensored
DESCRIPTION:Building Healthy and Open Communication\na FREE worskhop for mothers and daughters (ages 10-17)
URL:https://emergecounselingnj.com/event/motherhood-uncensored/
LOCATION:YWCA Northern New Jersey Office\, 214 State Street\, Hackensack\, NJ\, 07601\, United States
ATTACH;FMTTYPE=image/jpeg:https://emergecounselingnj.com/wp-content/uploads/2024/05/WhatsApp-Image-2024-05-07-at-9.01.14-AM-1.jpeg
END:VEVENT
BEGIN:VEVENT
DTSTART;TZID=America/New_York:20240508T180000
DTEND;TZID=America/New_York:20240508T200000
DTSTAMP:20260423T122545
CREATED:20240507T150915Z
LAST-MODIFIED:20240507T151618Z
UID:3940-1715191200-1715198400@emergecounselingnj.com
SUMMARY:Divorce: Embracing Change with Confidence
DESCRIPTION:This ongoing series reviews key areas to consider for women thinking of divorce or experiencing divorce \nTOPIC: MANAGING ANGER AND GRIEF \n 
URL:https://emergecounselingnj.com/event/divorce-embracing-change-with-confidence/
LOCATION:YWCA Northern New Jersey Office\, 214 State Street\, Hackensack\, NJ\, 07601\, United States
ATTACH;FMTTYPE=image/jpeg:https://emergecounselingnj.com/wp-content/uploads/2024/05/WhatsApp-Image-2024-05-07-at-9.01.14-AM.jpeg
END:VEVENT
BEGIN:VEVENT
DTSTART;TZID=America/New_York:20240320T083000
DTEND;TZID=America/New_York:20240320T170000
DTSTAMP:20260423T122545
CREATED:20240507T192447Z
LAST-MODIFIED:20240507T192448Z
UID:3984-1710923400-1710954000@emergecounselingnj.com
SUMMARY:Women's Leadership Conference
DESCRIPTION:
URL:https://emergecounselingnj.com/event/womens-leadership-conference/
LOCATION:18 Label Studios\, 18 Label St\, Montclair\, NJ\, United States
ATTACH;FMTTYPE=image/jpeg:https://emergecounselingnj.com/wp-content/uploads/2024/05/WhatsApp-Image-2024-05-07-at-9.01.14-AM-2.jpeg
END:VEVENT
BEGIN:VEVENT
DTSTART;TZID=America/New_York:20180614T180000
DTEND;TZID=America/New_York:20180614T210000
DTSTAMP:20260423T122545
CREATED:20180730T231047Z
LAST-MODIFIED:20180910T134019Z
UID:1074-1528999200-1529010000@emergecounselingnj.com
SUMMARY:#YouGotThis: A Workshop for Women in Search of Work/Life Balance (minus the guilt)
DESCRIPTION:Women looking for work/life balance minus the guilt\nLearn how to:\n• Enjoy work and play while feeling fulfilled.\n• Gain a better understanding of your values\, needs and take a proactive approach in your in your life.
URL:https://emergecounselingnj.com/event/yougotthis-a-workshop-for-women-in-search-of-work-life-balance-minus-the-guilt/
LOCATION:Primo Amore Bistro\, 235 Diamond Bridge Avenue\, Hawthorne\, NJ\, 07506\, United States
ATTACH;FMTTYPE=image/jpeg:https://emergecounselingnj.com/wp-content/uploads/2018/07/YouGotThis_2160x1080px.jpg
END:VEVENT
END:VCALENDAR